BEGIN:VCALENDAR
VERSION:2.0
PRODID:-//Columbia Road Baptist Church - ECPv6.15.20//NONSGML v1.0//EN
CALSCALE:GREGORIAN
METHOD:PUBLISH
X-WR-CALNAME:Columbia Road Baptist Church
X-ORIGINAL-URL:https://columbiaroad.org
X-WR-CALDESC:Events for Columbia Road Baptist Church
REFRESH-INTERVAL;VALUE=DURATION:PT1H
X-Robots-Tag:noindex
X-PUBLISHED-TTL:PT1H
BEGIN:VTIMEZONE
TZID:America/New_York
BEGIN:DAYLIGHT
TZOFFSETFROM:-0500
TZOFFSETTO:-0400
TZNAME:EDT
DTSTART:20250309T070000
END:DAYLIGHT
BEGIN:STANDARD
TZOFFSETFROM:-0400
TZOFFSETTO:-0500
TZNAME:EST
DTSTART:20251102T060000
END:STANDARD
BEGIN:DAYLIGHT
TZOFFSETFROM:-0500
TZOFFSETTO:-0400
TZNAME:EDT
DTSTART:20260308T070000
END:DAYLIGHT
BEGIN:STANDARD
TZOFFSETFROM:-0400
TZOFFSETTO:-0500
TZNAME:EST
DTSTART:20261101T060000
END:STANDARD
BEGIN:DAYLIGHT
TZOFFSETFROM:-0500
TZOFFSETTO:-0400
TZNAME:EDT
DTSTART:20270314T070000
END:DAYLIGHT
BEGIN:STANDARD
TZOFFSETFROM:-0400
TZOFFSETTO:-0500
TZNAME:EST
DTSTART:20271107T060000
END:STANDARD
END:VTIMEZONE
BEGIN:VEVENT
DTSTART;TZID=America/New_York:20260927T093000
DTEND;TZID=America/New_York:20260927T103000
DTSTAMP:20260421T060447
CREATED:20260202T222000Z
LAST-MODIFIED:20260202T222000Z
UID:5358-1790501400-1790505000@columbiaroad.org
SUMMARY:Sunday School (In Person & Online)
DESCRIPTION:Group: CRBC Connect Registered User\nOnline: https://columbiaroad.org/live
URL:https://columbiaroad.org/event/sunday-school-in-person-online-69/
LOCATION:Columbia Road Baptist Church\, 4116 Columbia Rd\, North Olmsted\, OH\, United States
CATEGORIES:CRBC Events
END:VEVENT
BEGIN:VEVENT
DTSTART;TZID=America/New_York:20260927T094500
DTEND;TZID=America/New_York:20260927T104500
DTSTAMP:20260421T060447
CREATED:20260202T221959Z
LAST-MODIFIED:20260202T221959Z
UID:5357-1790502300-1790505900@columbiaroad.org
SUMMARY:First STEPS Class
DESCRIPTION:Group: First Steps Class \nThe First Steps class welcomes and orients newcomers of Columbia Road Baptist Church\, providing essential information and fostering connections to support their integration and spiritual growth.
URL:https://columbiaroad.org/event/first-steps-class-69/
LOCATION:Columbia Road Baptist Church\, 4116 Columbia Rd\, North Olmsted\, OH\, United States
CATEGORIES:CRBC Events
END:VEVENT
BEGIN:VEVENT
DTSTART;TZID=America/New_York:20260927T110000
DTEND;TZID=America/New_York:20260927T120000
DTSTAMP:20260421T060447
CREATED:20260203T221942Z
LAST-MODIFIED:20260203T221942Z
UID:5360-1790506800-1790510400@columbiaroad.org
SUMMARY:Sunday Morning Worship (In Person & Online)
DESCRIPTION:Group: CRBC Connect Registered User\nOnline: https://columbiaroad.org/live
URL:https://columbiaroad.org/event/sunday-morning-worship-in-person-online-69/
LOCATION:Columbia Road Baptist Church\, 4116 Columbia Rd\, North Olmsted\, OH\, United States
CATEGORIES:CRBC Events
END:VEVENT
BEGIN:VEVENT
DTSTART;TZID=America/New_York:20260927T180000
DTEND;TZID=America/New_York:20260927T191500
DTSTAMP:20260421T060447
CREATED:20260204T221936Z
LAST-MODIFIED:20260204T221936Z
UID:5362-1790532000-1790536500@columbiaroad.org
SUMMARY:Sunday Evening Worship (In Person & Online)
DESCRIPTION:Group: CRBC Connect Registered User\nOur Sunday evening worship service is another dedicated time throughout the week when we come together to sing\, pray\, and hear the preaching of God's Word. It is a completely different than our Sunday Morning Service! Come and grow in Christ! \nOnline: https://columbiaroad.org/live
URL:https://columbiaroad.org/event/sunday-evening-worship-in-person-online-69/
LOCATION:Columbia Road Baptist Church\, 4116 Columbia Rd\, North Olmsted\, OH\, United States
CATEGORIES:CRBC Events
END:VEVENT
END:VCALENDAR